BEGIN:VCALENDAR
VERSION:2.0
PRODID:-//Vision Line - ECPv6.13.2.1//NONSGML v1.0//EN
CALSCALE:GREGORIAN
METHOD:PUBLISH
X-ORIGINAL-URL:https://visionlinebrasil.com.br
X-WR-CALDESC:Eventos para Vision Line
REFRESH-INTERVAL;VALUE=DURATION:PT1H
X-Robots-Tag:noindex
X-PUBLISHED-TTL:PT1H
BEGIN:VTIMEZONE
TZID:America/Sao_Paulo
BEGIN:STANDARD
TZOFFSETFROM:-0300
TZOFFSETTO:-0300
TZNAME:-03
DTSTART:20250101T000000
END:STANDARD
END:VTIMEZONE
BEGIN:VEVENT
DTSTART;VALUE=DATE:20260410
DTEND;VALUE=DATE:20260414
DTSTAMP:20260426T001902
CREATED:20251028T185804Z
LAST-MODIFIED:20251028T204718Z
UID:1599-1775779200-1776124799@visionlinebrasil.com.br
SUMMARY:ASCRS 2026
DESCRIPTION:ASCRS 2026 \n10 a 13 de abril de 2026 –  \nA Reunião Anual da ASCRS de 2026\, de 10 a 13 de abril em Washington\, DC\, é onde ideias ousadas\, tecnologias inovadoras e mentes brilhantes se encontram na cirurgia do segmento anterior.
URL:https://visionlinebrasil.com.br/eventos/ascrs-2026/
LOCATION:Walter E. Washington Convention Center\, 801 Mt. Vernon Place NW\, Washington\, United States
ATTACH;FMTTYPE=image/png:https://visionlinebrasil.com.br/wp-content/uploads/2025/10/ascrs-2026.png
END:VEVENT
BEGIN:VEVENT
DTSTART;VALUE=DATE:20260319
DTEND;VALUE=DATE:20260322
DTSTAMP:20260426T001902
CREATED:20251028T180019Z
LAST-MODIFIED:20251028T180357Z
UID:1590-1773878400-1774137599@visionlinebrasil.com.br
SUMMARY:Congresso Norte-Nordeste de Oftalmologia 2026
DESCRIPTION:Congresso Norte-Nordeste de Oftalmologia \n19 a 21 de Março de 2026 –  \nO Congresso Norte Nordeste de Oftalmologia 2026 será um evento imperdível para atualização científica\, troca de experiências e networking.
URL:https://visionlinebrasil.com.br/eventos/congresso-norte-nordeste-de-oftalmologia-2026/
LOCATION:Centro de Eventos do Ceará\, Fortaleza\, Ceará\, Brazil
ATTACH;FMTTYPE=image/png:https://visionlinebrasil.com.br/wp-content/uploads/2025/10/Design-sem-nome-4.png
END:VEVENT
BEGIN:VEVENT
DTSTART;VALUE=DATE:20260304
DTEND;VALUE=DATE:20260308
DTSTAMP:20260426T001902
CREATED:20251028T172545Z
LAST-MODIFIED:20251028T204921Z
UID:1579-1772582400-1772927999@visionlinebrasil.com.br
SUMMARY:48º SIMASP 2026 - O Congresso da Oftalmo da Escola
DESCRIPTION:48º SIMASP 2026 \n04 a 07 de Março de 2026 \nO SIMASP – O Congresso da Oftalmo da Escola é uma das plataformas científicas mais relevantes para o aprendizado\, desenvolvimento e estudo da oftalmologia no Brasil e é palco também para apresentação dos mais recentes lançamentos do setor.
URL:https://visionlinebrasil.com.br/eventos/congresso-de-oftalmologia-usp-2/
LOCATION:Centro de Convenções Frei Caneca\, Rua Frei Caneca\, 569\, Bela Vista\, São Paulo\, SP\, 01307-001\, Brazil
ATTACH;FMTTYPE=image/png:https://visionlinebrasil.com.br/wp-content/uploads/2025/10/SIMASP-2026-1.png
END:VEVENT
BEGIN:VEVENT
DTSTART;VALUE=DATE:20251202
DTEND;VALUE=DATE:20251207
DTSTAMP:20260426T001902
CREATED:20250730T155604Z
LAST-MODIFIED:20250730T155849Z
UID:1494-1764633600-1765065599@visionlinebrasil.com.br
SUMMARY:Congresso de Oftalmologia USP
DESCRIPTION:O Congresso de Oftalmologia USP 2025 será realizado de 02 a 06 de dezembro de 2025\, no Centro de Convenções Rebouças em São Paulo\, SP\, Brasil.\n\n\n\nCursos do Pré-Congresso: 02 a 04 de dezembro\nCongresso: 05 e 06 de dezembro
URL:https://visionlinebrasil.com.br/eventos/congresso-de-oftalmologia-usp/
LOCATION:Centro de Convenções Rebouças\, Av. Dr. Enéas de Carvalho Aguiar\, 23\, São Paulo\, São Paulo\, 05403-912\, Brazil
ATTACH;FMTTYPE=image/png:https://visionlinebrasil.com.br/wp-content/uploads/2025/07/Logo-CoUSP-530-x-250-px.png
END:VEVENT
BEGIN:VEVENT
DTSTART;VALUE=DATE:20251106
DTEND;VALUE=DATE:20251109
DTSTAMP:20260426T001902
CREATED:20250625T152629Z
LAST-MODIFIED:20250704T152508Z
UID:1141-1762387200-1762646399@visionlinebrasil.com.br
SUMMARY:44º Congresso do Hospital São Geraldo 2025
DESCRIPTION:Evento regional com foco em práticas hospitalares\, emergências oftalmológicas\, retina\, glaucoma\, e cirurgia geral. Indicado para médicos de hospitais\, residentes e acadêmicos.
URL:https://visionlinebrasil.com.br/eventos/44o-congresso-do-hospital-sao-geraldo-2025/
LOCATION:Hotel Mercure Lourdes\, Belo Horizonte\, Minas Gerais\, Brazil
ATTACH;FMTTYPE=image/png:https://visionlinebrasil.com.br/wp-content/uploads/2025/06/images.png
END:VEVENT
BEGIN:VEVENT
DTSTART;VALUE=DATE:20251023
DTEND;VALUE=DATE:20251026
DTSTAMP:20260426T001902
CREATED:20250625T152458Z
LAST-MODIFIED:20250730T125752Z
UID:1138-1761177600-1761436799@visionlinebrasil.com.br
SUMMARY:Imersão Presbiopia 2025
DESCRIPTION:Evento imersivo sobre diagnóstico\, manejo clínico e cirúrgico da presbiopia. Aborda desde lentes multifocais até novas abordagens terapêuticas. Público: cirurgiões de segmento anterior\, cataratologistas e clínicos.
URL:https://visionlinebrasil.com.br/eventos/imersao-presbiopia-2025/
LOCATION:Hotel Gran Mareiro\, Fortaleza\, Ceará\, Brazil
ATTACH;FMTTYPE=image/png:https://visionlinebrasil.com.br/wp-content/uploads/2025/06/Imersao.png
END:VEVENT
BEGIN:VEVENT
DTSTART;VALUE=DATE:20251018
DTEND;VALUE=DATE:20251022
DTSTAMP:20260426T001902
CREATED:20250625T152348Z
LAST-MODIFIED:20250704T151758Z
UID:1135-1760745600-1761091199@visionlinebrasil.com.br
SUMMARY:AAO 2025 – American Academy of Ophthalmology
DESCRIPTION:O maior congresso de oftalmologia do mundo. Diversidade de temas em todas as subespecialidades\, sessões práticas\, produtos inovadores e networking global.
URL:https://visionlinebrasil.com.br/eventos/aao-2025-american-academy-of-ophthalmology/
LOCATION:Orange County Convention Center\, Orlando\, United States
ATTACH;FMTTYPE=image/png:https://visionlinebrasil.com.br/wp-content/uploads/2025/06/AAOAcademy.png
END:VEVENT
BEGIN:VEVENT
DTSTART;VALUE=DATE:20251001
DTEND;VALUE=DATE:20251006
DTSTAMP:20260426T001902
CREATED:20250625T152217Z
LAST-MODIFIED:20250704T152159Z
UID:1132-1759276800-1759708799@visionlinebrasil.com.br
SUMMARY:Oculoplástica VI Sin Fronteras
DESCRIPTION:Congresso latino-americano com foco exclusivo em oculoplástica\, blefaroplastia\, orbitopatias e técnicas reconstrutivas. Aulas teóricas e práticas com experts internacionais.
URL:https://visionlinebrasil.com.br/eventos/oculoplastica-vi-sin-fronteras/
LOCATION:Playa Mujeres\, Quintana Roo\, Mexico
ATTACH;FMTTYPE=image/png:https://visionlinebrasil.com.br/wp-content/uploads/2025/06/Fronteras.png
END:VEVENT
BEGIN:VEVENT
DTSTART;VALUE=DATE:20250925
DTEND;VALUE=DATE:20250928
DTSTAMP:20260426T001902
CREATED:20250625T151915Z
LAST-MODIFIED:20250704T152007Z
UID:1129-1758758400-1759017599@visionlinebrasil.com.br
SUMMARY:8º BH Retina Summit 2025
DESCRIPTION:Encontro de alto nível técnico sobre retina e vítreo. Destaques em terapias farmacológicas\, IA no diagnóstico\, tecnologias cirúrgicas e imagem avançada. Público-alvo: especialistas em retina\, residentes e clínicos.
URL:https://visionlinebrasil.com.br/eventos/8o-bh-retina-summit-2025/
LOCATION:The One Business\, Minas Gerais\, Belo Horizonte\, Brazil
ATTACH;FMTTYPE=image/png:https://visionlinebrasil.com.br/wp-content/uploads/2025/06/BHRetina.png
END:VEVENT
BEGIN:VEVENT
DTSTART;VALUE=DATE:20250912
DTEND;VALUE=DATE:20250917
DTSTAMP:20260426T001902
CREATED:20250730T154034Z
LAST-MODIFIED:20250730T154841Z
UID:1487-1757635200-1758067199@visionlinebrasil.com.br
SUMMARY:43º Congresso do ESCRS
DESCRIPTION:O Congresso será  uma nova oportunidade para compartilhar os últimos avanços e inovações no campo da oftalmologia\, conhecer as últimas ofertas do setor e fazer networking com colegas e especialistas do mundo todo. \nO programa do congresso contará com simpósios principais\, cursos instrucionais\, laboratórios de imersão\, sessões de vídeo\, pôsteres e apresentações orais\, além de uma variedade de outros dias e sessões de interesse especial.
URL:https://visionlinebrasil.com.br/eventos/43o-congresso-do-escrs/
LOCATION:Bella Center Copenhagen\, Center Boulevard 9 - Entrada 7 2300\, Copenhagen\, Denmark
ATTACH;FMTTYPE=image/png:https://visionlinebrasil.com.br/wp-content/uploads/2025/07/Logo-ESCRS-530-x-250-px.png
END:VEVENT
BEGIN:VEVENT
DTSTART;VALUE=DATE:20250827
DTEND;VALUE=DATE:20250831
DTSTAMP:20260426T001902
CREATED:20250625T152712Z
LAST-MODIFIED:20250730T130356Z
UID:1144-1756252800-1756598399@visionlinebrasil.com.br
SUMMARY:69º Congresso Brasileiro de Oftalmologia – CBO 2025
DESCRIPTION:O maior congresso nacional da oftalmologia. Programação científica densa com cursos\, conferências\, painéis clínicos\, e feira de tecnologia. Público-alvo: oftalmologistas de todas as áreas\, indústria\, residentes e estudantes.
URL:https://visionlinebrasil.com.br/eventos/69o-congresso-brasileiro-de-oftalmologia-cbo-2025/
LOCATION:Expotrade Convention Center\, Rod. Dep. João Leopoldo Jacomel\, 10454\, Curitiba\, Paraná\, 83330-167\, Brazil
ATTACH;FMTTYPE=image/png:https://visionlinebrasil.com.br/wp-content/uploads/2025/06/cbo2025.png
END:VEVENT
BEGIN:VEVENT
DTSTART;VALUE=DATE:20250626
DTEND;VALUE=DATE:20250629
DTSTAMP:20260426T001902
CREATED:20250625T151742Z
LAST-MODIFIED:20250704T151823Z
UID:1125-1750896000-1751155199@visionlinebrasil.com.br
SUMMARY:XIII Congresso Nacional da Sociedade Brasileira de Oftalmologia (SBO)
DESCRIPTION:Congresso nacional abrangente com temáticas em todas as subespecialidades\, além de espaço para atualização prática e científica para médicos e residentes.
URL:https://visionlinebrasil.com.br/eventos/xiii-congresso-nacional-da-sociedade-brasileira-de-oftalmologia-sbo/
LOCATION:Centro de Convenções de Salvador\, Av. Octávio Mangabeira\, 5.490 - Boca do Rio\, Salvador\, BA\, 41706-690\, Brazil
ATTACH;FMTTYPE=image/png:https://visionlinebrasil.com.br/wp-content/uploads/2025/06/sbo.png
END:VEVENT
BEGIN:VEVENT
DTSTART;VALUE=DATE:20250625
DTEND;VALUE=DATE:20250629
DTSTAMP:20260426T001902
CREATED:20250625T151424Z
LAST-MODIFIED:20250704T151831Z
UID:1121-1750809600-1751155199@visionlinebrasil.com.br
SUMMARY:IOIS 2025 – 18th Meeting of the International Ocular Inflammation Society
DESCRIPTION:Sheraton Grand Rio Hotel & Resort – Rio de Janeiro – RJ\nEvento internacional em parceria com a Sociedade Brasileira de Uveíte. Foco em inflamações oculares\, terapias imunomoduladoras\, biológicos e workshops clínicos.
URL:https://visionlinebrasil.com.br/eventos/iois-2025-18th-meeting-of-the-international-ocular-inflammation-society/
LOCATION:Sheraton Grand Rio Hotel & Resort\, Rio de Janeiro\, Rio de Janeiro\, Brazil
ATTACH;FMTTYPE=image/png:https://visionlinebrasil.com.br/wp-content/uploads/2025/06/IOIS.png
END:VEVENT
BEGIN:VEVENT
DTSTART;VALUE=DATE:20250625
DTEND;VALUE=DATE:20250629
DTSTAMP:20260426T001902
CREATED:20250625T150755Z
LAST-MODIFIED:20250625T151804Z
UID:1113-1750809600-1751155199@visionlinebrasil.com.br
SUMMARY:World Glaucoma Congress (WGC 2025)
DESCRIPTION:O maior congresso global sobre glaucoma. Aborda novos tratamentos\, cirurgia minimamente invasiva\, IA em diagnóstico e discussões interativas. Indicado para especialistas em glaucoma\, pesquisadores e oftalmologistas clínicos.
URL:https://visionlinebrasil.com.br/eventos/world-glaucoma-congress-wgc-2025/
LOCATION:Honolulu\, Havaí – EUA\, Honolulu\, United States
END:VEVENT
BEGIN:VEVENT
DTSTART;VALUE=DATE:20250607
DTEND;VALUE=DATE:20250610
DTSTAMP:20260426T001902
CREATED:20250625T150427Z
LAST-MODIFIED:20250625T151807Z
UID:1111-1749254400-1749513599@visionlinebrasil.com.br
SUMMARY:The European Society of Ophthalmology Congress (SOE 2025)
DESCRIPTION:Centro de Congressos de Lisboa – Lisboa – Portugal\nCongresso europeu multidisciplinar com ênfase em educação oftalmológica\, cirurgia ao vivo\, workshops e mesas clínicas com especialistas de toda a Europa.
URL:https://visionlinebrasil.com.br/eventos/the-european-society-of-ophthalmology-congress-soe-2025/
END:VEVENT
END:VCALENDAR