BEGIN:VCALENDAR
VERSION:2.0
PRODID:-//Vision Line - ECPv6.13.2.1//NONSGML v1.0//EN
CALSCALE:GREGORIAN
METHOD:PUBLISH
X-ORIGINAL-URL:https://visionlinebrasil.com.br
X-WR-CALDESC:Eventos para Vision Line
REFRESH-INTERVAL;VALUE=DURATION:PT1H
X-Robots-Tag:noindex
X-PUBLISHED-TTL:PT1H
BEGIN:VTIMEZONE
TZID:America/Sao_Paulo
BEGIN:STANDARD
TZOFFSETFROM:-0300
TZOFFSETTO:-0300
TZNAME:-03
DTSTART:20260101T000000
END:STANDARD
END:VTIMEZONE
BEGIN:VEVENT
DTSTART;VALUE=DATE:20260513
DTEND;VALUE=DATE:20260517
DTSTAMP:20260421T195729
CREATED:20251028T191951Z
LAST-MODIFIED:20251028T191951Z
UID:1603-1778630400-1778975999@visionlinebrasil.com.br
SUMMARY:BRASCRS 2026 – XXXIII Congresso de Catarata e Cirurgia Refrativa
DESCRIPTION:BRASCRS 2026 – XXXIII Congresso de Catarata e Cirurgia Refrativa \n13 a 16 de maio de 2026 – O maior congresso de cirurgia refrativa e catarata da América Latina!
URL:https://visionlinebrasil.com.br/eventos/brascrs-2026-xxxiii-congresso-de-catarata-e-cirurgia-refrativa/
LOCATION:Transamérica Expo Center\, Transamerica Expo Center Av. Dr. Mário Vilas Boas Rodrigues\, 387 - Santo Amaro\, São Paulo\, SP\, 04757-020\, Brazil
ATTACH;FMTTYPE=image/png:https://visionlinebrasil.com.br/wp-content/uploads/2025/10/BRASCRS-2026-1.png
END:VEVENT
END:VCALENDAR